BEGIN:VCALENDAR
PRODID:-//nuDatenautomaten//framework iCal4j //DE
VERSION:2.0
CALSCALE:GREGORIAN
BEGIN:VTIMEZONE
TZID:Europe/Berlin
LAST-MODIFIED:20260306T231828Z
TZURL:https://www.tzurl.org/zoneinfo/Europe/Berlin
X-LIC-LOCATION:Europe/Berlin
X-PROLEPTIC-TZNAME:LMT
BEGIN:STANDARD
TZNAME:CET
TZOFFSETFROM:+005328
TZOFFSETTO:+0100
DTSTART:18930401T000000
END:STANDARD
BEGIN:DAYLIGHT
TZNAME:CEST
TZOFFSETFROM:+0100
TZOFFSETTO:+0200
DTSTART:19160430T230000
RDATE:19400401T020000
RDATE:19430329T020000
RDATE:19460414T020000
RDATE:19470406T030000
RDATE:19480418T020000
RDATE:19490410T020000
RDATE:19800406T020000
END:DAYLIGHT
BEGIN:STANDARD
TZNAME:CET
TZOFFSETFROM:+0200
TZOFFSETTO:+0100
DTSTART:19161001T010000
RDATE:19421102T030000
RDATE:19431004T030000
RDATE:19441002T030000
RDATE:19451118T030000
RDATE:19461007T030000
END:STANDARD
BEGIN:DAYLIGHT
TZNAME:CEST
TZOFFSETFROM:+0100
TZOFFSETTO:+0200
DTSTART:19170416T020000
RRULE:FREQ=YEARLY;UNTIL=19180415T010000Z;BYMONTH=4;BYDAY=3MO
END:DAYLIGHT
BEGIN:STANDARD
TZNAME:CET
TZOFFSETFROM:+0200
TZOFFSETTO:+0100
DTSTART:19170917T030000
RRULE:FREQ=YEARLY;UNTIL=19180916T010000Z;BYMONTH=9;BYDAY=3MO
END:STANDARD
BEGIN:DAYLIGHT
TZNAME:CEST
TZOFFSETFROM:+0100
TZOFFSETTO:+0200
DTSTART:19440403T020000
RRULE:FREQ=YEARLY;UNTIL=19450402T010000Z;BYMONTH=4;BYDAY=1MO
END:DAYLIGHT
BEGIN:DAYLIGHT
TZNAME:CEMT
TZOFFSETFROM:+0200
TZOFFSETTO:+0300
DTSTART:19450524T020000
RDATE:19470511T030000
END:DAYLIGHT
BEGIN:DAYLIGHT
TZNAME:CEST
TZOFFSETFROM:+0300
TZOFFSETTO:+0200
DTSTART:19450924T030000
RDATE:19470629T030000
END:DAYLIGHT
BEGIN:STANDARD
TZNAME:CET
TZOFFSETFROM:+0100
TZOFFSETTO:+0100
DTSTART:19460101T000000
RDATE:19800101T000000
END:STANDARD
BEGIN:STANDARD
TZNAME:CET
TZOFFSETFROM:+0200
TZOFFSETTO:+0100
DTSTART:19471005T030000
RRULE:FREQ=YEARLY;UNTIL=19491002T010000Z;BYMONTH=10;BYDAY=1SU
END:STANDARD
BEGIN:STANDARD
TZNAME:CET
TZOFFSETFROM:+0200
TZOFFSETTO:+0100
DTSTART:19800928T030000
RRULE:FREQ=YEARLY;UNTIL=19950924T010000Z;BYMONTH=9;BYDAY=-1SU
END:STANDARD
BEGIN:DAYLIGHT
TZNAME:CEST
TZOFFSETFROM:+0100
TZOFFSETTO:+0200
DTSTART:19810329T020000
RRULE:FREQ=YEARLY;BYMONTH=3;BYDAY=-1SU
END:DAYLIGHT
BEGIN:STANDARD
TZNAME:CET
TZOFFSETFROM:+0200
TZOFFSETTO:+0100
DTSTART:19961027T030000
RRULE:FREQ=YEARLY;BYMONTH=10;BYDAY=-1SU
END:STANDARD
END:VTIMEZONE
BEGIN:VEVENT
DTSTAMP:20260421T072942Z
DTSTART;TZID=Europe/Berlin:20251003T151500
DTEND;TZID=Europe/Berlin:20251003T154500
SUMMARY:Landespokal MÄ HC Empor Rostock III vs Ribnitzer HV II (8)
UID:a99a8325-edee-49b3-8566-e8857eb352ba
STATUS:CONFIRMED
LAST-MODIFIED:20251030T091316Z
DESCRIPTION:Landespokal Männer\nBegegnungs-Nr: 8\nHeim: HC Empor Rostock III\nGast: Ribnitzer HV II\nHalle: Sporthalle Schwaan (020)\nAdresse: John-Brinkmann-Straße 15\, 18258 Schwaan\n
LOCATION:Sporthalle Schwaan (020): John-Brinkmann-Straße 15\, 18258 Schwaan
CATEGORIES:Saison 2025/26
END:VEVENT
BEGIN:VEVENT
DTSTAMP:20260421T072942Z
DTSTART;TZID=Europe/Berlin:20251003T104500
DTEND;TZID=Europe/Berlin:20251003T111500
SUMMARY:Landespokal MÄ HC Empor Rostock III vs SV Einheit Demmin (2)
UID:f8025b8c-eb7e-4ce8-9a4f-4bd95732f7d3
STATUS:CONFIRMED
LAST-MODIFIED:20251003T171802Z
DESCRIPTION:Landespokal Männer\nBegegnungs-Nr: 2\nHeim: HC Empor Rostock III\nGast: SV Einheit Demmin\nHalle: Sporthalle Schwaan (020)\nAdresse: John-Brinkmann-Straße 15\, 18258 Schwaan\n
LOCATION:Sporthalle Schwaan (020): John-Brinkmann-Straße 15\, 18258 Schwaan
CATEGORIES:Saison 2025/26
END:VEVENT
BEGIN:VEVENT
DTSTAMP:20260421T072942Z
DTSTART;TZID=Europe/Berlin:20251123T130000
DTEND;TZID=Europe/Berlin:20251123T143000
SUMMARY:Verbandsliga (Staffel Ost) HC Empor Rostock III vs SV Einheit Demmin (3022)
UID:cba8a30e-aa4d-4b5f-8aad-1d0212ff7489
STATUS:CONFIRMED
LAST-MODIFIED:20251124T112203Z
DESCRIPTION:Verbandsliga Männer (Staffel Ost)\nBegegnungs-Nr: 3022\nHeim: HC Empor Rostock III\nGast: SV Einheit Demmin\nHalle: Fiete-Reder-Sporthalle (016)\nAdresse: Marieneher Str. 4\, 18069 Rostock\n
LOCATION:Fiete-Reder-Sporthalle (016): Marieneher Str. 4\, 18069 Rostock
CATEGORIES:Saison 2025/26
END:VEVENT
BEGIN:VEVENT
DTSTAMP:20260421T072942Z
DTSTART;TZID=Europe/Berlin:20260118T130000
DTEND;TZID=Europe/Berlin:20260118T143000
SUMMARY:Verbandsliga (Staffel Ost) HC Empor Rostock III vs HSV Insel Usedom II (3040)
UID:9451eeb9-ee9c-492c-90a5-b7060620ac74
STATUS:CONFIRMED
LAST-MODIFIED:20260119T111748Z
DESCRIPTION:Verbandsliga Männer (Staffel Ost)\nBegegnungs-Nr: 3040\nHeim: HC Empor Rostock III\nGast: HSV Insel Usedom II\nHalle: Fiete Reeder Halle 2 (116)\nAdresse: Marieneher Str. 4    \, 18069 Rostock\n
LOCATION:Fiete Reeder Halle 2 (116): Marieneher Str. 4    \, 18069 Rostock
CATEGORIES:Saison 2025/26
END:VEVENT
BEGIN:VEVENT
DTSTAMP:20260421T072942Z
DTSTART;TZID=Europe/Berlin:20260201T151500
DTEND;TZID=Europe/Berlin:20260201T164500
SUMMARY:Verbandsliga (Staffel Ost) HC Empor Rostock III vs SG Uni Greifswald / Loitz II (3045)
UID:6a169ff9-c3ec-46c7-bbba-1371653635b8
STATUS:CONFIRMED
LAST-MODIFIED:20260202T071900Z
DESCRIPTION:Verbandsliga Männer (Staffel Ost)\nBegegnungs-Nr: 3045\nHeim: HC Empor Rostock III\nGast: SG Uni Greifswald / Loitz II\nHalle: Fiete-Reder-Sporthalle (016)\nAdresse: Marieneher Str. 4\, 18069 Rostock\n
LOCATION:Fiete-Reder-Sporthalle (016): Marieneher Str. 4\, 18069 Rostock
CATEGORIES:Saison 2025/26
END:VEVENT
BEGIN:VEVENT
DTSTAMP:20260421T072942Z
DTSTART;TZID=Europe/Berlin:20260111T130000
DTEND;TZID=Europe/Berlin:20260111T143000
SUMMARY:Verbandsliga (Staffel Ost) HC Empor Rostock III vs HC Vorpommern-Greifswald II (3036)
UID:e8de6f53-8a15-4cbf-b134-e8f323d1b834
STATUS:CONFIRMED
LAST-MODIFIED:20260112T074350Z
DESCRIPTION:Verbandsliga Männer (Staffel Ost)\nBegegnungs-Nr: 3036\nHeim: HC Empor Rostock III\nGast: HC Vorpommern-Greifswald II\nHalle: Fiete Reeder Halle 2 (116)\nAdresse: Marieneher Str. 4    \, 18069 Rostock\n
LOCATION:Fiete Reeder Halle 2 (116): Marieneher Str. 4    \, 18069 Rostock
CATEGORIES:Saison 2025/26
END:VEVENT
BEGIN:VEVENT
DTSTAMP:20260421T072942Z
DTSTART;TZID=Europe/Berlin:20260315T123000
DTEND;TZID=Europe/Berlin:20260315T140000
SUMMARY:Verbandsliga (Staffel Ost) HC Empor Rostock III vs HSV Grimmen 1992 II (3055)
UID:7d481985-bc9d-4b8a-8b0f-aab3a2c1b263
STATUS:CONFIRMED
LAST-MODIFIED:20260316T075214Z
DESCRIPTION:Verbandsliga Männer (Staffel Ost)\nBegegnungs-Nr: 3055\nHeim: HC Empor Rostock III\nGast: HSV Grimmen 1992 II\nHalle: Fiete-Reder-Sporthalle (016)\nAdresse: Marieneher Str. 4\, 18069 Rostock\n
LOCATION:Fiete-Reder-Sporthalle (016): Marieneher Str. 4\, 18069 Rostock
CATEGORIES:Saison 2025/26
END:VEVENT
BEGIN:VEVENT
DTSTAMP:20260421T072942Z
DTSTART;TZID=Europe/Berlin:20250921T130000
DTEND;TZID=Europe/Berlin:20250921T143000
SUMMARY:Verbandsliga (Staffel Ost) HC Empor Rostock III vs HV Altentreptow (3003)
UID:0feccedc-419a-4d27-826e-98848bd7f0b3
STATUS:CONFIRMED
LAST-MODIFIED:20250922T070306Z
DESCRIPTION:Verbandsliga Männer (Staffel Ost)\nBegegnungs-Nr: 3003\nHeim: HC Empor Rostock III\nGast: HV Altentreptow\nHalle: Fiete-Reder-Sporthalle (016)\nAdresse: Marieneher Str. 4\, 18069 Rostock\n
LOCATION:Fiete-Reder-Sporthalle (016): Marieneher Str. 4\, 18069 Rostock
CATEGORIES:Saison 2025/26
END:VEVENT
BEGIN:VEVENT
DTSTAMP:20260421T072942Z
DTSTART;TZID=Europe/Berlin:20251109T103000
DTEND;TZID=Europe/Berlin:20251109T120000
SUMMARY:Verbandsliga (Staffel Ost) HC Empor Rostock III vs Stavenhagener SV von 1863 (3016)
UID:c6d35181-ab37-43ad-a85f-15e0faf2be89
STATUS:CONFIRMED
LAST-MODIFIED:20251110T070502Z
DESCRIPTION:Verbandsliga Männer (Staffel Ost)\nBegegnungs-Nr: 3016\nHeim: HC Empor Rostock III\nGast: Stavenhagener SV von 1863\nHalle: Fiete-Reder-Sporthalle (016)\nAdresse: Marieneher Str. 4\, 18069 Rostock\n
LOCATION:Fiete-Reder-Sporthalle (016): Marieneher Str. 4\, 18069 Rostock
CATEGORIES:Saison 2025/26
END:VEVENT
BEGIN:VEVENT
DTSTAMP:20260421T072942Z
DTSTART;TZID=Europe/Berlin:20260411T153000
DTEND;TZID=Europe/Berlin:20260411T170000
SUMMARY:VL 5-6 HC Empor Rostock III vs TSV 1952 Bützow (3067)
UID:5d688cf3-8dba-49c9-bc4e-ec191b1bd4de
STATUS:CONFIRMED
LAST-MODIFIED:20260412T075313Z
DESCRIPTION:Verbandsliga Männer 3.Ost-3.West\nBegegnungs-Nr: 3067\nHeim: HC Empor Rostock III\nGast: TSV 1952 Bützow\nHalle: Fiete-Reder-Sporthalle (016)\nAdresse: Marieneher Str. 4\, 18069 Rostock\n
LOCATION:Fiete-Reder-Sporthalle (016): Marieneher Str. 4\, 18069 Rostock
CATEGORIES:Saison 2025/26
END:VEVENT
BEGIN:VEVENT
DTSTAMP:20260421T072942Z
DTSTART;TZID=Europe/Berlin:20260501T133000
DTEND;TZID=Europe/Berlin:20260501T150000
SUMMARY:FinalFour HC Empor Rostock III vs SG HB Schwerin-Leezen (2)
UID:bf945470-bbe0-4a89-b271-583ea457649c
STATUS:CONFIRMED
LAST-MODIFIED:20260227T000938Z
DESCRIPTION:Landespokal Männer/FinalFour\nBegegnungs-Nr: 2\nHeim: HC Empor Rostock III\nGast: SG HB Schwerin-Leezen\nHalle: Fiete-Reder-Sporthalle (016)\nAdresse: Marieneher Str. 4\, 18069 Rostock\n
LOCATION:Fiete-Reder-Sporthalle (016): Marieneher Str. 4\, 18069 Rostock
CATEGORIES:Saison 2025/26
END:VEVENT
BEGIN:VEVENT
DTSTAMP:20260421T072942Z
DTSTART;TZID=Europe/Berlin:20251003T130000
DTEND;TZID=Europe/Berlin:20251003T133000
SUMMARY:Landespokal MÄ Schwaaner SV vs HC Empor Rostock III (5)
UID:b26ab584-55a1-48f8-8a55-bfdbb990a615
STATUS:CONFIRMED
LAST-MODIFIED:20251003T172424Z
DESCRIPTION:Landespokal Männer\nBegegnungs-Nr: 5\nHeim: Schwaaner SV\nGast: HC Empor Rostock III\nHalle: Sporthalle Schwaan (020)\nAdresse: John-Brinkmann-Straße 15\, 18258 Schwaan\n
LOCATION:Sporthalle Schwaan (020): John-Brinkmann-Straße 15\, 18258 Schwaan
CATEGORIES:Saison 2025/26
END:VEVENT
BEGIN:VEVENT
DTSTAMP:20260421T072942Z
DTSTART;TZID=Europe/Berlin:20251130T153000
DTEND;TZID=Europe/Berlin:20251130T170000
SUMMARY:Verbandsliga (Staffel Ost) HSV Grimmen 1992 II vs HC Empor Rostock III (3027)
UID:e2c40e58-864b-4f30-95d4-091af540d4c9
STATUS:CONFIRMED
LAST-MODIFIED:20251201T074220Z
DESCRIPTION:Verbandsliga Männer (Staffel Ost)\nBegegnungs-Nr: 3027\nHeim: HSV Grimmen 1992 II\nGast: HC Empor Rostock III\nHalle: Sporthalle Grimmen Süd-West (048)\nAdresse: Leningrader Straße 24a\, 18507 Grimmen\n
LOCATION:Sporthalle Grimmen Süd-West (048): Leningrader Straße 24a\, 18507 Grimmen
CATEGORIES:Saison 2025/26
END:VEVENT
BEGIN:VEVENT
DTSTAMP:20260421T072942Z
DTSTART;TZID=Europe/Berlin:20251206T180000
DTEND;TZID=Europe/Berlin:20251206T193000
SUMMARY:Verbandsliga (Staffel Ost) HV Altentreptow vs HC Empor Rostock III (3031)
UID:00260a56-2ad0-4b21-a217-c746fe3d0580
STATUS:CONFIRMED
LAST-MODIFIED:20251207T120637Z
DESCRIPTION:Verbandsliga Männer (Staffel Ost)\nBegegnungs-Nr: 3031\nHeim: HV Altentreptow\nGast: HC Empor Rostock III\nHalle: Mehrzweckhalle am Klosterberg (023)\nAdresse: Am Klosterberg\, 17087 Altentreptow\n
LOCATION:Mehrzweckhalle am Klosterberg (023): Am Klosterberg\, 17087 Altentreptow
CATEGORIES:Saison 2025/26
END:VEVENT
BEGIN:VEVENT
DTSTAMP:20260421T072942Z
DTSTART;TZID=Europe/Berlin:20260124T180000
DTEND;TZID=Europe/Berlin:20260124T193000
SUMMARY:Verbandsliga (Staffel Ost) Stavenhagener SV von 1863 vs HC Empor Rostock III (3044)
UID:08388fd4-8ad6-464a-a8e6-58276d562777
STATUS:CONFIRMED
LAST-MODIFIED:20260126T083715Z
DESCRIPTION:Verbandsliga Männer (Staffel Ost)\nBegegnungs-Nr: 3044\nHeim: Stavenhagener SV von 1863\nGast: HC Empor Rostock III\nHalle: Zweifelderhalle Stavenhagen (068)\nAdresse: August-Seidel-Straße\, 17153 Stavenhagen\n
LOCATION:Zweifelderhalle Stavenhagen (068): August-Seidel-Straße\, 17153 Stavenhagen
CATEGORIES:Saison 2025/26
END:VEVENT
BEGIN:VEVENT
DTSTAMP:20260421T072942Z
DTSTART;TZID=Europe/Berlin:20260301T160000
DTEND;TZID=Europe/Berlin:20260301T173000
SUMMARY:Verbandsliga (Staffel Ost) SV Einheit Demmin vs HC Empor Rostock III (3050)
UID:453e98b0-f7cc-4a6e-8198-eed64052f57c
STATUS:CONFIRMED
LAST-MODIFIED:20260302T092332Z
DESCRIPTION:Verbandsliga Männer (Staffel Ost)\nBegegnungs-Nr: 3050\nHeim: SV Einheit Demmin\nGast: HC Empor Rostock III\nHalle: \"beermann Arena\" (080)\nAdresse: Schützenstraße 1\, 17109 Demmin\n
LOCATION:\"beermann Arena\" (080): Schützenstraße 1\, 17109 Demmin
CATEGORIES:Saison 2025/26
END:VEVENT
BEGIN:VEVENT
DTSTAMP:20260421T072942Z
DTSTART;TZID=Europe/Berlin:20250927T130000
DTEND;TZID=Europe/Berlin:20250927T143000
SUMMARY:Verbandsliga (Staffel Ost) HC Vorpommern-Greifswald II vs HC Empor Rostock III (3008)
UID:4534cbe6-f9cc-4a6b-b1b0-91164f637654
STATUS:CONFIRMED
LAST-MODIFIED:20250928T150736Z
DESCRIPTION:Verbandsliga Männer (Staffel Ost)\nBegegnungs-Nr: 3008\nHeim: HC Vorpommern-Greifswald II\nGast: HC Empor Rostock III\nHalle: Mehrzweckhalle Schönwalde II (008)\nAdresse: Ernst-Thälmann-Ring 11\, 17491 Greifswald\n
LOCATION:Mehrzweckhalle Schönwalde II (008): Ernst-Thälmann-Ring 11\, 17491 Greifswald
CATEGORIES:Saison 2025/26
END:VEVENT
BEGIN:VEVENT
DTSTAMP:20260421T072942Z
DTSTART;TZID=Europe/Berlin:20251011T160000
DTEND;TZID=Europe/Berlin:20251011T173000
SUMMARY:Verbandsliga (Staffel Ost) HSV Insel Usedom II vs HC Empor Rostock III (3012)
UID:f2b08879-766c-4cdd-81b6-e000f5451f8e
STATUS:CONFIRMED
LAST-MODIFIED:20251012T175508Z
DESCRIPTION:Verbandsliga Männer (Staffel Ost)\nBegegnungs-Nr: 3012\nHeim: HSV Insel Usedom II\nGast: HC Empor Rostock III\nHalle: Pommernhalle Ahlbeck (010)\nAdresse: Bahnhofstr.\, 17419  Heringsdorf / OT: Ahlbeck\n
LOCATION:Pommernhalle Ahlbeck (010): Bahnhofstr.\, 17419  Heringsdorf / OT: Ahlbeck
CATEGORIES:Saison 2025/26
END:VEVENT
BEGIN:VEVENT
DTSTAMP:20260421T072942Z
DTSTART;TZID=Europe/Berlin:20251114T193000
DTEND;TZID=Europe/Berlin:20251114T210000
SUMMARY:Verbandsliga (Staffel Ost) SG Uni Greifswald / Loitz II vs HC Empor Rostock III (3017)
UID:9da75854-3df4-47c5-9f7e-0f3b44bc4949
STATUS:CONFIRMED
LAST-MODIFIED:20251115T121152Z
DESCRIPTION:Verbandsliga Männer (Staffel Ost)\nBegegnungs-Nr: 3017\nHeim: SG Uni Greifswald / Loitz II\nGast: HC Empor Rostock III\nHalle: Peenetal Halle (072)\nAdresse: Goethestr. 64-65\, 17121  Loitz\n
LOCATION:Peenetal Halle (072): Goethestr. 64-65\, 17121  Loitz
CATEGORIES:Saison 2025/26
END:VEVENT
BEGIN:VEVENT
DTSTAMP:20260421T072942Z
DTSTART;TZID=Europe/Berlin:20260418T170000
DTEND;TZID=Europe/Berlin:20260418T183000
SUMMARY:VL 5-6 TSV 1952 Bützow vs HC Empor Rostock III (4067)
UID:b4d0414c-48a5-48b4-8fae-63dd3f8d5a16
STATUS:CONFIRMED
LAST-MODIFIED:20260419T093024Z
DESCRIPTION:Verbandsliga Männer 3.Ost-3.West\nBegegnungs-Nr: 4067\nHeim: TSV 1952 Bützow\nGast: HC Empor Rostock III\nHalle: Wilhelm-Schröder-Sporthalle (042)\nAdresse: Vierburgweg\, 18246 Bützow\n
LOCATION:Wilhelm-Schröder-Sporthalle (042): Vierburgweg\, 18246 Bützow
CATEGORIES:Saison 2025/26
END:VEVENT
END:VCALENDAR
