BEGIN:VCALENDAR
PRODID:-//nuDatenautomaten//framework iCal4j //DE
VERSION:2.0
CALSCALE:GREGORIAN
BEGIN:VTIMEZONE
TZID:Europe/Berlin
LAST-MODIFIED:20260306T231828Z
TZURL:https://www.tzurl.org/zoneinfo/Europe/Berlin
X-LIC-LOCATION:Europe/Berlin
X-PROLEPTIC-TZNAME:LMT
BEGIN:STANDARD
TZNAME:CET
TZOFFSETFROM:+005328
TZOFFSETTO:+0100
DTSTART:18930401T000000
END:STANDARD
BEGIN:DAYLIGHT
TZNAME:CEST
TZOFFSETFROM:+0100
TZOFFSETTO:+0200
DTSTART:19160430T230000
RDATE:19400401T020000
RDATE:19430329T020000
RDATE:19460414T020000
RDATE:19470406T030000
RDATE:19480418T020000
RDATE:19490410T020000
RDATE:19800406T020000
END:DAYLIGHT
BEGIN:STANDARD
TZNAME:CET
TZOFFSETFROM:+0200
TZOFFSETTO:+0100
DTSTART:19161001T010000
RDATE:19421102T030000
RDATE:19431004T030000
RDATE:19441002T030000
RDATE:19451118T030000
RDATE:19461007T030000
END:STANDARD
BEGIN:DAYLIGHT
TZNAME:CEST
TZOFFSETFROM:+0100
TZOFFSETTO:+0200
DTSTART:19170416T020000
RRULE:FREQ=YEARLY;UNTIL=19180415T010000Z;BYMONTH=4;BYDAY=3MO
END:DAYLIGHT
BEGIN:STANDARD
TZNAME:CET
TZOFFSETFROM:+0200
TZOFFSETTO:+0100
DTSTART:19170917T030000
RRULE:FREQ=YEARLY;UNTIL=19180916T010000Z;BYMONTH=9;BYDAY=3MO
END:STANDARD
BEGIN:DAYLIGHT
TZNAME:CEST
TZOFFSETFROM:+0100
TZOFFSETTO:+0200
DTSTART:19440403T020000
RRULE:FREQ=YEARLY;UNTIL=19450402T010000Z;BYMONTH=4;BYDAY=1MO
END:DAYLIGHT
BEGIN:DAYLIGHT
TZNAME:CEMT
TZOFFSETFROM:+0200
TZOFFSETTO:+0300
DTSTART:19450524T020000
RDATE:19470511T030000
END:DAYLIGHT
BEGIN:DAYLIGHT
TZNAME:CEST
TZOFFSETFROM:+0300
TZOFFSETTO:+0200
DTSTART:19450924T030000
RDATE:19470629T030000
END:DAYLIGHT
BEGIN:STANDARD
TZNAME:CET
TZOFFSETFROM:+0100
TZOFFSETTO:+0100
DTSTART:19460101T000000
RDATE:19800101T000000
END:STANDARD
BEGIN:STANDARD
TZNAME:CET
TZOFFSETFROM:+0200
TZOFFSETTO:+0100
DTSTART:19471005T030000
RRULE:FREQ=YEARLY;UNTIL=19491002T010000Z;BYMONTH=10;BYDAY=1SU
END:STANDARD
BEGIN:STANDARD
TZNAME:CET
TZOFFSETFROM:+0200
TZOFFSETTO:+0100
DTSTART:19800928T030000
RRULE:FREQ=YEARLY;UNTIL=19950924T010000Z;BYMONTH=9;BYDAY=-1SU
END:STANDARD
BEGIN:DAYLIGHT
TZNAME:CEST
TZOFFSETFROM:+0100
TZOFFSETTO:+0200
DTSTART:19810329T020000
RRULE:FREQ=YEARLY;BYMONTH=3;BYDAY=-1SU
END:DAYLIGHT
BEGIN:STANDARD
TZNAME:CET
TZOFFSETFROM:+0200
TZOFFSETTO:+0100
DTSTART:19961027T030000
RRULE:FREQ=YEARLY;BYMONTH=10;BYDAY=-1SU
END:STANDARD
END:VTIMEZONE
BEGIN:VEVENT
DTSTAMP:20260419T083942Z
DTSTART;TZID=Europe/Berlin:20260314T163000
DTEND;TZID=Europe/Berlin:20260314T180000
SUMMARY:Regionsoberliga Frauen Gruppe 1 TV Beyeröhde II vs HSV Überruhr III (84)
UID:af262675-fc88-4521-8244-22369195de2a
STATUS:CONFIRMED
LAST-MODIFIED:20260316T105347Z
DESCRIPTION:Regionsoberliga Frauen Gruppe 1\nBegegnungs-Nr: 84\nHeim: TV Beyeröhde II\nGast: HSV Überruhr III\nHalle: Langerfeld-Buschenburg Wuppertal (12006)\nAdresse: Dieckerhoff Str.18\, 42389 Wuppertal\n
LOCATION:Langerfeld-Buschenburg Wuppertal (12006): Dieckerhoff Str.18\, 42389 Wuppertal
CATEGORIES:Saison 2025/26
END:VEVENT
BEGIN:VEVENT
DTSTAMP:20260419T083942Z
DTSTART;TZID=Europe/Berlin:20251219T203000
DTEND;TZID=Europe/Berlin:20251219T220000
SUMMARY:Regionsoberliga Frauen Gruppe 1 TV Beyeröhde II vs TB Wülfrath III (8)
UID:7f6d1acb-14eb-461b-85bb-d8fe90c9b2e2
STATUS:CONFIRMED
LAST-MODIFIED:20251218T073733Z
DESCRIPTION:Regionsoberliga Frauen Gruppe 1\nBegegnungs-Nr: 8\nHeim: TV Beyeröhde II\nGast: TB Wülfrath III\nHalle: Langerfeld-Buschenburg Wuppertal (12006)\nAdresse: Dieckerhoff Str.18\, 42389 Wuppertal\n
LOCATION:Langerfeld-Buschenburg Wuppertal (12006): Dieckerhoff Str.18\, 42389 Wuppertal
CATEGORIES:Saison 2025/26
END:VEVENT
BEGIN:VEVENT
DTSTAMP:20260419T083942Z
DTSTART;TZID=Europe/Berlin:20251011T163000
DTEND;TZID=Europe/Berlin:20251011T180000
SUMMARY:Regionsoberliga Frauen Gruppe 1 TV Beyeröhde II vs TG 81 Düsseldorf II (17)
UID:be63baf5-f983-46e6-838c-f7421ed7974e
STATUS:CONFIRMED
LAST-MODIFIED:20251013T102814Z
DESCRIPTION:Regionsoberliga Frauen Gruppe 1\nBegegnungs-Nr: 17\nHeim: TV Beyeröhde II\nGast: TG 81 Düsseldorf II\nHalle: Langerfeld-Buschenburg Wuppertal (12006)\nAdresse: Dieckerhoff Str.18\, 42389 Wuppertal\n
LOCATION:Langerfeld-Buschenburg Wuppertal (12006): Dieckerhoff Str.18\, 42389 Wuppertal
CATEGORIES:Saison 2025/26
END:VEVENT
BEGIN:VEVENT
DTSTAMP:20260419T083942Z
DTSTART;TZID=Europe/Berlin:20251115T173000
DTEND;TZID=Europe/Berlin:20251115T190000
SUMMARY:Regionsoberliga Frauen Gruppe 1 TV Beyeröhde II vs Wermelskirchener TV II (29)
UID:9e0f1c4e-2af0-4dbc-acf7-22bc5564570e
STATUS:CONFIRMED
LAST-MODIFIED:20251118T135913Z
DESCRIPTION:Regionsoberliga Frauen Gruppe 1\nBegegnungs-Nr: 29\nHeim: TV Beyeröhde II\nGast: Wermelskirchener TV II\nHalle: Langerfeld-Buschenburg Wuppertal (12006)\nAdresse: Dieckerhoff Str.18\, 42389 Wuppertal\n
LOCATION:Langerfeld-Buschenburg Wuppertal (12006): Dieckerhoff Str.18\, 42389 Wuppertal
CATEGORIES:Saison 2025/26
END:VEVENT
BEGIN:VEVENT
DTSTAMP:20260419T083942Z
DTSTART;TZID=Europe/Berlin:20260120T203000
DTEND;TZID=Europe/Berlin:20260120T220000
SUMMARY:Regionsoberliga Frauen Gruppe 1 TV Beyeröhde II vs Solinger TB (34)
UID:49da52b0-dbbb-4123-9cd0-44e612ab9dae
STATUS:CONFIRMED
LAST-MODIFIED:20260126T083530Z
DESCRIPTION:Regionsoberliga Frauen Gruppe 1\nBegegnungs-Nr: 34\nHeim: TV Beyeröhde II\nGast: Solinger TB\nHalle: Adlerbrücke Wuppertal (12012)\nAdresse: Unterdörnen 1\, 42283 Wuppertal\n
LOCATION:Adlerbrücke Wuppertal (12012): Unterdörnen 1\, 42283 Wuppertal
CATEGORIES:Saison 2025/26
END:VEVENT
BEGIN:VEVENT
DTSTAMP:20260419T083942Z
DTSTART;TZID=Europe/Berlin:20251213T170000
DTEND;TZID=Europe/Berlin:20251213T183000
SUMMARY:Regionsoberliga Frauen Gruppe 1 TV Beyeröhde II vs HSV Solingen-Gräfrath 76 e.V. III (44)
UID:c06c4a3a-b762-4b9b-b54b-e49dab33a5e2
STATUS:CONFIRMED
LAST-MODIFIED:20251215T113340Z
DESCRIPTION:Regionsoberliga Frauen Gruppe 1\nBegegnungs-Nr: 44\nHeim: TV Beyeröhde II\nGast: HSV Solingen-Gräfrath 76 e.V. III\nHalle: Langerfeld-Buschenburg Wuppertal (12006)\nAdresse: Dieckerhoff Str.18\, 42389 Wuppertal\n
LOCATION:Langerfeld-Buschenburg Wuppertal (12006): Dieckerhoff Str.18\, 42389 Wuppertal
CATEGORIES:Saison 2025/26
END:VEVENT
BEGIN:VEVENT
DTSTAMP:20260419T083942Z
DTSTART;TZID=Europe/Berlin:20260117T173000
DTEND;TZID=Europe/Berlin:20260117T190000
SUMMARY:Regionsoberliga Frauen Gruppe 1 TV Beyeröhde II vs HSG Haarzopf/Huttrop (48)
UID:1f674f45-ada7-41a4-826e-e81bcd0cbec8
STATUS:CONFIRMED
LAST-MODIFIED:20260118T205223Z
DESCRIPTION:Regionsoberliga Frauen Gruppe 1\nBegegnungs-Nr: 48\nHeim: TV Beyeröhde II\nGast: HSG Haarzopf/Huttrop\nHalle: Langerfeld-Buschenburg Wuppertal (12006)\nAdresse: Dieckerhoff Str.18\, 42389 Wuppertal\n
LOCATION:Langerfeld-Buschenburg Wuppertal (12006): Dieckerhoff Str.18\, 42389 Wuppertal
CATEGORIES:Saison 2025/26
END:VEVENT
BEGIN:VEVENT
DTSTAMP:20260419T083942Z
DTSTART;TZID=Europe/Berlin:20260131T173000
DTEND;TZID=Europe/Berlin:20260131T190000
SUMMARY:Regionsoberliga Frauen Gruppe 1 TV Beyeröhde II vs Niederbergischer HC (56)
UID:885af00c-014f-4bbb-8c9f-5c5050f291c7
STATUS:CONFIRMED
LAST-MODIFIED:20260203T105357Z
DESCRIPTION:Regionsoberliga Frauen Gruppe 1\nBegegnungs-Nr: 56\nHeim: TV Beyeröhde II\nGast: Niederbergischer HC\nHalle: Langerfeld-Buschenburg Wuppertal (12006)\nAdresse: Dieckerhoff Str.18\, 42389 Wuppertal\n
LOCATION:Langerfeld-Buschenburg Wuppertal (12006): Dieckerhoff Str.18\, 42389 Wuppertal
CATEGORIES:Saison 2025/26
END:VEVENT
BEGIN:VEVENT
DTSTAMP:20260419T083942Z
DTSTART;TZID=Europe/Berlin:20260221T163000
DTEND;TZID=Europe/Berlin:20260221T180000
SUMMARY:Regionsoberliga Frauen Gruppe 1 TV Beyeröhde II vs TV Ratingen II (68)
UID:9e07b943-af77-4c95-ad22-0c99ae3a2114
STATUS:CONFIRMED
LAST-MODIFIED:20260219T074911Z
DESCRIPTION:Regionsoberliga Frauen Gruppe 1\nBegegnungs-Nr: 68\nHeim: TV Beyeröhde II\nGast: TV Ratingen II\nHalle: Langerfeld-Buschenburg Wuppertal (12006)\nAdresse: Dieckerhoff Str.18\, 42389 Wuppertal\n
LOCATION:Langerfeld-Buschenburg Wuppertal (12006): Dieckerhoff Str.18\, 42389 Wuppertal
CATEGORIES:Saison 2025/26
END:VEVENT
BEGIN:VEVENT
DTSTAMP:20260419T083942Z
DTSTART;TZID=Europe/Berlin:20260418T160000
DTEND;TZID=Europe/Berlin:20260418T173000
SUMMARY:Regionsoberliga Pokal-Playoffs TV Beyeröhde II vs SSG Wuppertal/HSV Wuppertal II (1)
UID:d78e62b4-aebd-40ed-abac-5537a87c79f1
STATUS:CONFIRMED
LAST-MODIFIED:20260323T124257Z
DESCRIPTION:Regionsoberliga Pokal-Playoffs\nBegegnungs-Nr: 1\nHeim: TV Beyeröhde II\nGast: SSG Wuppertal/HSV Wuppertal II\nHalle: Langerfeld-Buschenburg Wuppertal (12006)\nAdresse: Dieckerhoff Str.18\, 42389 Wuppertal\n
LOCATION:Langerfeld-Buschenburg Wuppertal (12006): Dieckerhoff Str.18\, 42389 Wuppertal
CATEGORIES:Saison 2025/26
END:VEVENT
BEGIN:VEVENT
DTSTAMP:20260419T083942Z
DTSTART;TZID=Europe/Berlin:20250921T163000
DTEND;TZID=Europe/Berlin:20250921T180000
SUMMARY:Regionsoberliga Frauen Gruppe 1 HSG Haarzopf/Huttrop vs TV Beyeröhde II (3)
UID:911ab6ad-7108-49ab-96fe-d7bad3c17ff6
STATUS:CONFIRMED
LAST-MODIFIED:20250922T182613Z
DESCRIPTION:Regionsoberliga Frauen Gruppe 1\nBegegnungs-Nr: 3\nHeim: HSG Haarzopf/Huttrop\nGast: TV Beyeröhde II\nHalle: Goetheschule (05015)\nAdresse: Walter-Sachsse-Weg 13\, 45133 Essen\n
LOCATION:Goetheschule (05015): Walter-Sachsse-Weg 13\, 45133 Essen
CATEGORIES:Saison 2025/26
END:VEVENT
BEGIN:VEVENT
DTSTAMP:20260419T083942Z
DTSTART;TZID=Europe/Berlin:20251004T180000
DTEND;TZID=Europe/Berlin:20251004T193000
SUMMARY:Regionsoberliga Frauen Gruppe 1 Niederbergischer HC vs TV Beyeröhde II (11)
UID:edff875b-8367-451c-8c06-4fd181dedb37
STATUS:CONFIRMED
LAST-MODIFIED:20251008T160535Z
DESCRIPTION:Regionsoberliga Frauen Gruppe 1\nBegegnungs-Nr: 11\nHeim: Niederbergischer HC\nGast: TV Beyeröhde II\nHalle: Schulzentrum Waldschlößchen Velbert-Neviges (12023)\nAdresse: Waldschlößchen 39\, 42553 Velbert\n
LOCATION:Schulzentrum Waldschlößchen Velbert-Neviges (12023): Waldschlößchen 39\, 42553 Velbert
CATEGORIES:Saison 2025/26
END:VEVENT
BEGIN:VEVENT
DTSTAMP:20260419T083942Z
DTSTART;TZID=Europe/Berlin:20251108T151500
DTEND;TZID=Europe/Berlin:20251108T164500
SUMMARY:Regionsoberliga Frauen Gruppe 1 TV Ratingen II vs TV Beyeröhde II (23)
UID:f7016502-dd48-4982-b42c-ad7772cf8e48
STATUS:CONFIRMED
LAST-MODIFIED:20251110T090951Z
DESCRIPTION:Regionsoberliga Frauen Gruppe 1\nBegegnungs-Nr: 23\nHeim: TV Ratingen II\nGast: TV Beyeröhde II\nHalle: Ratingen-West (04030)\nAdresse: Gothaer Str. 23\, 40880 Ratingen\n
LOCATION:Ratingen-West (04030): Gothaer Str. 23\, 40880 Ratingen
CATEGORIES:Saison 2025/26
END:VEVENT
BEGIN:VEVENT
DTSTAMP:20260419T083942Z
DTSTART;TZID=Europe/Berlin:20260308T144500
DTEND;TZID=Europe/Berlin:20260308T161500
SUMMARY:Regionsoberliga Frauen Gruppe 1 Solinger TB vs TV Beyeröhde II (79)
UID:3108f8a6-2768-46a9-8df6-9a2c517d9d84
STATUS:CONFIRMED
LAST-MODIFIED:20260308T162143Z
DESCRIPTION:Regionsoberliga Frauen Gruppe 1\nBegegnungs-Nr: 79\nHeim: Solinger TB\nGast: TV Beyeröhde II\nHalle: SG.August-Dicke-Schule (01028)\nAdresse: Schützenstrasse 44\, 42659 Solingen\n
LOCATION:SG.August-Dicke-Schule (01028): Schützenstrasse 44\, 42659 Solingen
CATEGORIES:Saison 2025/26
END:VEVENT
BEGIN:VEVENT
DTSTAMP:20260419T083942Z
DTSTART;TZID=Europe/Berlin:20251207T160000
DTEND;TZID=Europe/Berlin:20251207T173000
SUMMARY:Regionsoberliga Frauen Gruppe 1 HSV Überruhr III vs TV Beyeröhde II (39)
UID:6e72906b-4ee9-48c5-9ee5-0a5c65420ade
STATUS:CONFIRMED
LAST-MODIFIED:20251208T083630Z
DESCRIPTION:Regionsoberliga Frauen Gruppe 1\nBegegnungs-Nr: 39\nHeim: HSV Überruhr III\nGast: TV Beyeröhde II\nHalle: Klapperstr. (05012)\nAdresse: Dellmannsweg 14\, 45277 Essen\n
LOCATION:Klapperstr. (05012): Dellmannsweg 14\, 45277 Essen
CATEGORIES:Saison 2025/26
END:VEVENT
BEGIN:VEVENT
DTSTAMP:20260419T083942Z
DTSTART;TZID=Europe/Berlin:20260322T110000
DTEND;TZID=Europe/Berlin:20260322T123000
SUMMARY:Regionsoberliga Frauen Gruppe 1 HSV Solingen-Gräfrath 76 e.V. III vs TV Beyeröhde II (89)
UID:dcb26986-173f-4398-8220-a3cbe7a636bc
STATUS:CONFIRMED
LAST-MODIFIED:20260323T152259Z
DESCRIPTION:Regionsoberliga Frauen Gruppe 1\nBegegnungs-Nr: 89\nHeim: HSV Solingen-Gräfrath 76 e.V. III\nGast: TV Beyeröhde II\nHalle: SG.Kannenhof (01035)\nAdresse: Wupperstrasse 126\, 42651 Solingen\n
LOCATION:SG.Kannenhof (01035): Wupperstrasse 126\, 42651 Solingen
CATEGORIES:Saison 2025/26
END:VEVENT
BEGIN:VEVENT
DTSTAMP:20260419T083942Z
DTSTART;TZID=Europe/Berlin:20260125T154000
DTEND;TZID=Europe/Berlin:20260125T171000
SUMMARY:Regionsoberliga Frauen Gruppe 1 TB Wülfrath III vs TV Beyeröhde II (53)
UID:2082fabf-30a6-440f-b348-5880d42854f2
STATUS:CONFIRMED
LAST-MODIFIED:20260126T083915Z
DESCRIPTION:Regionsoberliga Frauen Gruppe 1\nBegegnungs-Nr: 53\nHeim: TB Wülfrath III\nGast: TV Beyeröhde II\nHalle: MTC Arena Wülfrath (12031)\nAdresse: Fortuna Str. 30\, 42489 Wülfrath\n
LOCATION:MTC Arena Wülfrath (12031): Fortuna Str. 30\, 42489 Wülfrath
CATEGORIES:Saison 2025/26
END:VEVENT
BEGIN:VEVENT
DTSTAMP:20260419T083942Z
DTSTART;TZID=Europe/Berlin:20260207T170000
DTEND;TZID=Europe/Berlin:20260207T183000
SUMMARY:Regionsoberliga Frauen Gruppe 1 TG 81 Düsseldorf II vs TV Beyeröhde II (62)
UID:c767913f-fe6d-4e8d-be97-a4678395aaa3
STATUS:CONFIRMED
LAST-MODIFIED:20260209T170317Z
DESCRIPTION:Regionsoberliga Frauen Gruppe 1\nBegegnungs-Nr: 62\nHeim: TG 81 Düsseldorf II\nGast: TV Beyeröhde II\nHalle: Freiherr-vom-Stein-Realschule (04004)\nAdresse: Feuerbachstraße 65\, 40223 Düsseldorf\n
LOCATION:Freiherr-vom-Stein-Realschule (04004): Feuerbachstraße 65\, 40223 Düsseldorf
CATEGORIES:Saison 2025/26
END:VEVENT
BEGIN:VEVENT
DTSTAMP:20260419T083942Z
DTSTART;TZID=Europe/Berlin:20260301T120000
DTEND;TZID=Europe/Berlin:20260301T133000
SUMMARY:Regionsoberliga Frauen Gruppe 1 Wermelskirchener TV II vs TV Beyeröhde II (74)
UID:f55eaef6-ba5a-4614-bc4f-d7ef08a347bf
STATUS:CONFIRMED
LAST-MODIFIED:20260302T171035Z
DESCRIPTION:Regionsoberliga Frauen Gruppe 1\nBegegnungs-Nr: 74\nHeim: Wermelskirchener TV II\nGast: TV Beyeröhde II\nHalle: Wermelskirchen.Schwanen (01019)\nAdresse: Stettiner Str. / Am Schwanen\, 42929 Wermelskirchen\n
LOCATION:Wermelskirchen.Schwanen (01019): Stettiner Str. / Am Schwanen\, 42929 Wermelskirchen
CATEGORIES:Saison 2025/26
END:VEVENT
END:VCALENDAR
