BEGIN:VCALENDAR
PRODID:-//nuDatenautomaten//framework iCal4j //DE
VERSION:2.0
CALSCALE:GREGORIAN
BEGIN:VTIMEZONE
TZID:Europe/Berlin
LAST-MODIFIED:20260306T231828Z
TZURL:https://www.tzurl.org/zoneinfo/Europe/Berlin
X-LIC-LOCATION:Europe/Berlin
X-PROLEPTIC-TZNAME:LMT
BEGIN:STANDARD
TZNAME:CET
TZOFFSETFROM:+005328
TZOFFSETTO:+0100
DTSTART:18930401T000000
END:STANDARD
BEGIN:DAYLIGHT
TZNAME:CEST
TZOFFSETFROM:+0100
TZOFFSETTO:+0200
DTSTART:19160430T230000
RDATE:19400401T020000
RDATE:19430329T020000
RDATE:19460414T020000
RDATE:19470406T030000
RDATE:19480418T020000
RDATE:19490410T020000
RDATE:19800406T020000
END:DAYLIGHT
BEGIN:STANDARD
TZNAME:CET
TZOFFSETFROM:+0200
TZOFFSETTO:+0100
DTSTART:19161001T010000
RDATE:19421102T030000
RDATE:19431004T030000
RDATE:19441002T030000
RDATE:19451118T030000
RDATE:19461007T030000
END:STANDARD
BEGIN:DAYLIGHT
TZNAME:CEST
TZOFFSETFROM:+0100
TZOFFSETTO:+0200
DTSTART:19170416T020000
RRULE:FREQ=YEARLY;UNTIL=19180415T010000Z;BYMONTH=4;BYDAY=3MO
END:DAYLIGHT
BEGIN:STANDARD
TZNAME:CET
TZOFFSETFROM:+0200
TZOFFSETTO:+0100
DTSTART:19170917T030000
RRULE:FREQ=YEARLY;UNTIL=19180916T010000Z;BYMONTH=9;BYDAY=3MO
END:STANDARD
BEGIN:DAYLIGHT
TZNAME:CEST
TZOFFSETFROM:+0100
TZOFFSETTO:+0200
DTSTART:19440403T020000
RRULE:FREQ=YEARLY;UNTIL=19450402T010000Z;BYMONTH=4;BYDAY=1MO
END:DAYLIGHT
BEGIN:DAYLIGHT
TZNAME:CEMT
TZOFFSETFROM:+0200
TZOFFSETTO:+0300
DTSTART:19450524T020000
RDATE:19470511T030000
END:DAYLIGHT
BEGIN:DAYLIGHT
TZNAME:CEST
TZOFFSETFROM:+0300
TZOFFSETTO:+0200
DTSTART:19450924T030000
RDATE:19470629T030000
END:DAYLIGHT
BEGIN:STANDARD
TZNAME:CET
TZOFFSETFROM:+0100
TZOFFSETTO:+0100
DTSTART:19460101T000000
RDATE:19800101T000000
END:STANDARD
BEGIN:STANDARD
TZNAME:CET
TZOFFSETFROM:+0200
TZOFFSETTO:+0100
DTSTART:19471005T030000
RRULE:FREQ=YEARLY;UNTIL=19491002T010000Z;BYMONTH=10;BYDAY=1SU
END:STANDARD
BEGIN:STANDARD
TZNAME:CET
TZOFFSETFROM:+0200
TZOFFSETTO:+0100
DTSTART:19800928T030000
RRULE:FREQ=YEARLY;UNTIL=19950924T010000Z;BYMONTH=9;BYDAY=-1SU
END:STANDARD
BEGIN:DAYLIGHT
TZNAME:CEST
TZOFFSETFROM:+0100
TZOFFSETTO:+0200
DTSTART:19810329T020000
RRULE:FREQ=YEARLY;BYMONTH=3;BYDAY=-1SU
END:DAYLIGHT
BEGIN:STANDARD
TZNAME:CET
TZOFFSETFROM:+0200
TZOFFSETTO:+0100
DTSTART:19961027T030000
RRULE:FREQ=YEARLY;BYMONTH=10;BYDAY=-1SU
END:STANDARD
END:VTIMEZONE
BEGIN:VEVENT
DTSTAMP:20260420T061629Z
DTSTART;TZID=Europe/Berlin:20220306T110000
DTEND;TZID=Europe/Berlin:20220306T120000
SUMMARY:BZL Staffel West HC 03 Bamberg vs HaSpo Bayreuth II (22030015)
UID:4a4c9a1e-2874-4069-afba-8f5da67bcb51
STATUS:CONFIRMED
LAST-MODIFIED:20220326T104101Z
DESCRIPTION:Bezirksliga Staffel West mD\nBegegnungs-Nr: 22030015\nHeim: HC 03 Bamberg\nGast: HaSpo Bayreuth II\nHalle: Bamberg Berufschule I (220022)\nAdresse: Ohmstr.16\, 96050 Bamberg\n
LOCATION:Bamberg Berufschule I (220022): Ohmstr.16\, 96050 Bamberg
CATEGORIES:Saison 2021/22
END:VEVENT
BEGIN:VEVENT
DTSTAMP:20260420T061629Z
DTSTART;TZID=Europe/Berlin:20220330T173000
DTEND;TZID=Europe/Berlin:20220330T183000
SUMMARY:BZL Staffel West HC 03 Bamberg vs HSC 2000 Coburg II (22030019)
UID:1f171540-635b-4314-b6fc-4c8165e13c0c
STATUS:CONFIRMED
LAST-MODIFIED:20220326T104101Z
DESCRIPTION:Bezirksliga Staffel West mD\nBegegnungs-Nr: 22030019\nHeim: HC 03 Bamberg\nGast: HSC 2000 Coburg II\nHalle: Bamberg Berufschule I (220022)\nAdresse: Ohmstr.16\, 96050 Bamberg\n
LOCATION:Bamberg Berufschule I (220022): Ohmstr.16\, 96050 Bamberg
CATEGORIES:Saison 2021/22
END:VEVENT
BEGIN:VEVENT
DTSTAMP:20260420T061629Z
DTSTART;TZID=Europe/Berlin:20211003T103000
DTEND;TZID=Europe/Berlin:20211003T113000
SUMMARY:BZL Staffel West HC 03 Bamberg vs HSC 2000 Coburg III (22030001)
UID:8a45f686-e4dc-4e69-b4e9-5fd2b228bd02
STATUS:CONFIRMED
LAST-MODIFIED:20220326T104101Z
DESCRIPTION:Bezirksliga Staffel West mD\nBegegnungs-Nr: 22030001\nHeim: HC 03 Bamberg\nGast: HSC 2000 Coburg III\nHalle: Bamberg Berufschule I (220022)\nAdresse: Ohmstr.16\, 96050 Bamberg\n
LOCATION:Bamberg Berufschule I (220022): Ohmstr.16\, 96050 Bamberg
CATEGORIES:Saison 2021/22
END:VEVENT
BEGIN:VEVENT
DTSTAMP:20260420T061629Z
DTSTART;TZID=Europe/Berlin:20220213T153000
DTEND;TZID=Europe/Berlin:20220213T163000
SUMMARY:BZL Staffel West HC 03 Bamberg vs SG Kunstadt-Weidhausen (22030023)
UID:a04013b2-9cf5-4992-ad45-fd409e78f4ce
STATUS:CONFIRMED
LAST-MODIFIED:20220326T104101Z
DESCRIPTION:Bezirksliga Staffel West mD\nBegegnungs-Nr: 22030023\nHeim: HC 03 Bamberg\nGast: SG Kunstadt-Weidhausen\nHalle: Bamberg Berufschule I (220022)\nAdresse: Ohmstr.16\, 96050 Bamberg\n
LOCATION:Bamberg Berufschule I (220022): Ohmstr.16\, 96050 Bamberg
CATEGORIES:Saison 2021/22
END:VEVENT
BEGIN:VEVENT
DTSTAMP:20260420T061629Z
DTSTART;TZID=Europe/Berlin:20211024T120000
DTEND;TZID=Europe/Berlin:20211024T130000
SUMMARY:BZL Staffel West SG Kunstadt-Weidhausen vs HC 03 Bamberg (22030008)
UID:11998769-6b55-4222-a02a-5e70c30a8f2e
STATUS:CONFIRMED
LAST-MODIFIED:20220326T104101Z
DESCRIPTION:Bezirksliga Staffel West mD\nBegegnungs-Nr: 22030008\nHeim: SG Kunstadt-Weidhausen\nGast: HC 03 Bamberg\nHalle: Burgkunstadt\, Obermainhalle (220027)\nAdresse: Kirchleiner Str. 16 b\, 96224 Burgkunstadt\n
LOCATION:Burgkunstadt\, Obermainhalle (220027): Kirchleiner Str. 16 b\, 96224 Burgkunstadt
CATEGORIES:Saison 2021/22
END:VEVENT
BEGIN:VEVENT
DTSTAMP:20260420T061629Z
DTSTART;TZID=Europe/Berlin:20220323T173000
DTEND;TZID=Europe/Berlin:20220323T183000
SUMMARY:BZL Staffel West HSC 2000 Coburg III vs HC 03 Bamberg (22030017)
UID:49c231d5-51af-4b87-bbd6-04533009101e
STATUS:CONFIRMED
LAST-MODIFIED:20220326T104101Z
DESCRIPTION:Bezirksliga Staffel West mD\nBegegnungs-Nr: 22030017\nHeim: HSC 2000 Coburg III\nGast: HC 03 Bamberg\nHalle: Coburg\, BGS Halle (220041)\nAdresse: Wilhelm-Ruß-Str. 4\, 96450 Coburg\n
LOCATION:Coburg\, BGS Halle (220041): Wilhelm-Ruß-Str. 4\, 96450 Coburg
CATEGORIES:Saison 2021/22
END:VEVENT
BEGIN:VEVENT
DTSTAMP:20260420T061629Z
DTSTART;TZID=Europe/Berlin:20211009T150000
DTEND;TZID=Europe/Berlin:20211009T160000
SUMMARY:BZL Staffel West HSC 2000 Coburg II vs HC 03 Bamberg (22030003)
UID:120aa37b-b72a-41c4-b00e-e9072d8a543e
STATUS:CONFIRMED
LAST-MODIFIED:20220326T104101Z
DESCRIPTION:Bezirksliga Staffel West mD\nBegegnungs-Nr: 22030003\nHeim: HSC 2000 Coburg II\nGast: HC 03 Bamberg\nHalle: Coburg\, BGS Halle (220041)\nAdresse: Wilhelm-Ruß-Str. 4\, 96450 Coburg\n
LOCATION:Coburg\, BGS Halle (220041): Wilhelm-Ruß-Str. 4\, 96450 Coburg
CATEGORIES:Saison 2021/22
END:VEVENT
END:VCALENDAR
